BEGIN:VCALENDAR
VERSION:2.0
PRODID:-//demosphere.net//NONSGML kigkonsult.se iCalcreator 2.22.1//
METHOD:REQUEST
X-WR-TIMEZONE:Europe/Madrid
BEGIN:VEVENT
UID:https://axendamazucu.org/evento/13363
DTSTAMP:20250731T173000Z
DESCRIPTION:más información aquí: https://axendamazucu.org/evento/13363
DTSTART:20250731T173000Z
DTEND:20250731T183000Z
GEO:+43.53658;-5.667735
LOCATION:Xixón/Gijón\, \nLlar El Mazucu\, \nC/Cangues d'Onís\,6\, Xixón
SUMMARY:Charra-Alderique:'Salú mental y vivienda'
URL:https://axendamazucu.org/evento/13363
END:VEVENT
END:VCALENDAR
