BEGIN:VCALENDAR
VERSION:2.0
PRODID:-//demosphere.net//NONSGML kigkonsult.se iCalcreator 2.22.1//
METHOD:REQUEST
X-WR-TIMEZONE:Europe/Madrid
BEGIN:VEVENT
UID:https://axendamazucu.org/evento/13840
DTSTAMP:20251128T190000Z
DESCRIPTION:más información aquí: https://axendamazucu.org/evento/13840
DTSTART:20251128T190000Z
DTEND:20251128T200000Z
GEO:+43.53658;-5.667735
LOCATION:Xixón/Gijón\, \nLlar El Mazucu\, \nC/Cangues d'Onís\,6\, Xixón
SUMMARY:Conversaciones con Ricardo Gómez en el Llar El Mazucu
URL:https://axendamazucu.org/evento/13840
END:VEVENT
END:VCALENDAR
