BEGIN:VCALENDAR
VERSION:2.0
PRODID:-//demosphere.net//NONSGML kigkonsult.se iCalcreator 2.22.1//
METHOD:REQUEST
X-WR-TIMEZONE:Europe/Madrid
BEGIN:VEVENT
UID:https://axendamazucu.org/evento/14471
DTSTAMP:20260422T173000Z
DESCRIPTION:más información aquí: https://axendamazucu.org/evento/14471
DTSTART:20260422T173000Z
DTEND:20260422T183000Z
GEO:+43.540652;-5.656028
LOCATION:Xixón/Gijón\, \nLa Revoltosa\, libros y café \nC/Juan Alonso\, 12 
 - bajo\, Gijón
SUMMARY:Presentación del cómic 'Los lazos rojos'
URL:https://axendamazucu.org/evento/14471
END:VEVENT
END:VCALENDAR
