BEGIN:VCALENDAR
VERSION:2.0
PRODID:-//demosphere.net//NONSGML kigkonsult.se iCalcreator 2.22.1//
METHOD:REQUEST
X-WR-TIMEZONE:Europe/Madrid
BEGIN:VEVENT
UID:https://axendamazucu.org/evento/14473
DTSTAMP:20260424T163000Z
DESCRIPTION:más información aquí: https://axendamazucu.org/evento/14473
DTSTART:20260424T163000Z
DTEND:20260424T173000Z
GEO:+43.360385;-5.842452
LOCATION:Uviéu/Oviedo\, \nRadio QK\, \nC/Padre Suárez\,1\, Oviedo
SUMMARY:Grupo lectura Radio QK: Velada surrealista
URL:https://axendamazucu.org/evento/14473
END:VEVENT
END:VCALENDAR
