BEGIN:VCALENDAR
VERSION:2.0
PRODID:-//demosphere.net//NONSGML kigkonsult.se iCalcreator 2.22.1//
METHOD:REQUEST
X-WR-TIMEZONE:Europe/Madrid
BEGIN:VEVENT
UID:https://axendamazucu.org/evento/14474
DTSTAMP:20260421T163000Z
DESCRIPTION:más información aquí: https://axendamazucu.org/evento/14474
DTSTART:20260421T163000Z
DTEND:20260421T173000Z
GEO:+43.364323;-5.841605
LOCATION:Uviéu/Oviedo\, \nEl Manglar \nCalle Martínez Vigil\, 14\, 33010 Ov
 iedo (Asturias)
SUMMARY:4º Ciclo de charlas-debate: 'Hablan las prostitutas'
URL:https://axendamazucu.org/evento/14474
END:VEVENT
END:VCALENDAR
