BEGIN:VCALENDAR
VERSION:2.0
PRODID:-//demosphere.net//NONSGML kigkonsult.se iCalcreator 2.22.1//
METHOD:REQUEST
X-WR-TIMEZONE:Europe/Madrid
BEGIN:VEVENT
UID:https://axendamazucu.org/evento/14475
DTSTAMP:20260430T180000Z
DESCRIPTION:más información aquí: https://axendamazucu.org/evento/14475
DTSTART:20260430T180000Z
DTEND:20260430T190000Z
GEO:+43.369835;-5.851893
LOCATION:Uviéu/Oviedo\, \nKuivi Almacenes\, \nC/Almacenes industriales\, 40
 \, Uviéu
SUMMARY:'Canciones para un Primero de Mayo' con Silvidos y Gemidos y Rojo C
 ancionero
URL:https://axendamazucu.org/evento/14475
END:VEVENT
END:VCALENDAR
