BEGIN:VCALENDAR
VERSION:2.0
PRODID:-//demosphere.net//NONSGML kigkonsult.se iCalcreator 2.22.1//
METHOD:REQUEST
X-WR-TIMEZONE:Europe/Madrid
BEGIN:VEVENT
UID:https://axendamazucu.org/evento/14476
DTSTAMP:20260423T170000Z
DESCRIPTION:más información aquí: https://axendamazucu.org/evento/14476
DTSTART:20260423T170000Z
DTEND:20260423T180000Z
GEO:+43.392227;-5.661978
LOCATION:Siero\, \nEl Llavaderu\, \nC/Martín de Lugones\, 11\, La Pola Sier
 o
SUMMARY:Presentación del libro “La oscuridad de la razón”.
URL:https://axendamazucu.org/evento/14476
END:VEVENT
END:VCALENDAR
