BEGIN:VCALENDAR
VERSION:2.0
PRODID:-//demosphere.net//NONSGML kigkonsult.se iCalcreator 2.22.1//
METHOD:REQUEST
X-WR-TIMEZONE:Europe/Madrid
BEGIN:VEVENT
UID:https://axendamazucu.org/evento/14477
DTSTAMP:20260423T170000Z
DESCRIPTION:más información aquí: https://axendamazucu.org/evento/14477
DTSTART:20260423T170000Z
DTEND:20260423T180000Z
GEO:+43.527005;-5.663828
LOCATION:Xixón/Gijón\, \nCMI El Llano (C/Río de Oro\, 37. Xixón)
SUMMARY:Recital 'Gloria Fuertes para mayores'
URL:https://axendamazucu.org/evento/14477
END:VEVENT
END:VCALENDAR
