BEGIN:VCALENDAR
VERSION:2.0
PRODID:-//demosphere.net//NONSGML kigkonsult.se iCalcreator 2.22.1//
METHOD:REQUEST
X-WR-TIMEZONE:Europe/Madrid
BEGIN:VEVENT
UID:https://axendamazucu.org/evento/14478
DTSTAMP:20260423T083000Z
DESCRIPTION:más información aquí: https://axendamazucu.org/evento/14478
DTSTART:20260423T083000Z
DTEND:20260423T093000Z
GEO:+43.524091;-5.634982
LOCATION:Xixón/Gijón\, \nEscuela Politécnica de Gijón
SUMMARY:Repair Café:Taller de reparación de electrodomésticos pequeños y ar
 tículos electrónicos
URL:https://axendamazucu.org/evento/14478
END:VEVENT
END:VCALENDAR
