BEGIN:VCALENDAR
VERSION:2.0
PRODID:-//demosphere.net//NONSGML kigkonsult.se iCalcreator 2.22.1//
METHOD:REQUEST
X-WR-TIMEZONE:Europe/Madrid
BEGIN:VEVENT
UID:https://axendamazucu.org/evento/14479
DTSTAMP:20260423T130000Z
DESCRIPTION:más información aquí: https://axendamazucu.org/evento/14479
DTSTART:20260423T130000Z
DTEND:20260423T140000Z
GEO:+43.524091;-5.634982
LOCATION:Xixón/Gijón\, \nEscuela Politécnica de Gijón
SUMMARY:Debate sobre la gestión del agua y su defensa como bien común
URL:https://axendamazucu.org/evento/14479
END:VEVENT
END:VCALENDAR
