BEGIN:VCALENDAR
VERSION:2.0
PRODID:-//demosphere.net//NONSGML kigkonsult.se iCalcreator 2.22.1//
METHOD:REQUEST
X-WR-TIMEZONE:Europe/Madrid
BEGIN:VEVENT
UID:https://axendamazucu.org/evento/14480
DTSTAMP:20260424T190000Z
DESCRIPTION:más información aquí: https://axendamazucu.org/evento/14480
DTSTART:20260424T190000Z
DTEND:20260424T200000Z
GEO:+43.364323;-5.841605
LOCATION:Uviéu/Oviedo\, \nEl Manglar \nCalle Martínez Vigil\, 14\, 33010 Ov
 iedo (Asturias)
SUMMARY:Jam Session abierta de Jazz en El Manglar
URL:https://axendamazucu.org/evento/14480
END:VEVENT
END:VCALENDAR
