BEGIN:VCALENDAR
VERSION:2.0
PRODID:-//demosphere.net//NONSGML kigkonsult.se iCalcreator 2.22.1//
METHOD:REQUEST
X-WR-TIMEZONE:Europe/Madrid
BEGIN:VEVENT
UID:https://axendamazucu.org/evento/14481
DTSTAMP:20260425T180000Z
DESCRIPTION:más información aquí: https://axendamazucu.org/evento/14481
DTSTART:20260425T180000Z
DTEND:20260425T190000Z
GEO:+43.250229;-5.772957
LOCATION:Mieres\, \nCasa Cultura Teodoro Cuesta. \nC/Manuel Llanez 8\,Miere
 s
SUMMARY:Aniversario de la Revolución de los claveles.Música para una Revolu
 ción
URL:https://axendamazucu.org/evento/14481
END:VEVENT
END:VCALENDAR
