BEGIN:VCALENDAR
VERSION:2.0
PRODID:-//demosphere.net//NONSGML kigkonsult.se iCalcreator 2.22.1//
METHOD:REQUEST
X-WR-TIMEZONE:Europe/Madrid
BEGIN:VEVENT
UID:https://axendamazucu.org/evento/14482
DTSTAMP:20260423T170000Z
DESCRIPTION:más información aquí: https://axendamazucu.org/evento/14482
DTSTART:20260423T170000Z
DTEND:20260423T180000Z
GEO:+43.540926;-5.662009
LOCATION:Xixón/Gijón\, \nAteneo Obrero de Gijón\, \nAntigua Escuela de Come
 rcio\,2ª Planta \nC/Francisco Tomás y Valiente\,1\,Xixón
SUMMARY:Presentación del poemario 'Donde andan tus ojos'
URL:https://axendamazucu.org/evento/14482
END:VEVENT
END:VCALENDAR
