BEGIN:VCALENDAR
VERSION:2.0
PRODID:-//demosphere.net//NONSGML kigkonsult.se iCalcreator 2.22.1//
METHOD:REQUEST
X-WR-TIMEZONE:Europe/Madrid
BEGIN:VEVENT
UID:https://axendamazucu.org/evento/14483
DTSTAMP:20260425T193000Z
DESCRIPTION:más información aquí: https://axendamazucu.org/evento/14483
DTSTART:20260425T193000Z
DTEND:20260425T203000Z
GEO:+43.35991;-5.84389
LOCATION:Uviéu/Oviedo\, \nCervecería La Raposa \nC/ Carpio 8-10 Bajo\, 3300
 9 Oviedo
SUMMARY:Fiesta antirrepresiva en La Raposa
URL:https://axendamazucu.org/evento/14483
END:VEVENT
END:VCALENDAR
