BEGIN:VCALENDAR
VERSION:2.0
PRODID:-//demosphere.net//NONSGML kigkonsult.se iCalcreator 2.22.1//
METHOD:REQUEST
X-WR-TIMEZONE:Europe/Madrid
BEGIN:VEVENT
UID:https://axendamazucu.org/evento/14484
DTSTAMP:20260517T100000Z
DESCRIPTION:más información aquí: https://axendamazucu.org/evento/14484
DTSTART:20260517T100000Z
DTEND:20260517T110000Z
LOCATION:Xixón/Gijón\, \nCimavilla
SUMMARY:Xuntanza Antirrepresiva
URL:https://axendamazucu.org/evento/14484
END:VEVENT
END:VCALENDAR
