BEGIN:VCALENDAR
VERSION:2.0
PRODID:-//demosphere.net//NONSGML kigkonsult.se iCalcreator 2.22.1//
METHOD:REQUEST
X-WR-TIMEZONE:Europe/Madrid
BEGIN:VEVENT
UID:https://axendamazucu.org/evento/14485
DTSTAMP:20260515T173000Z
DESCRIPTION:más información aquí: https://axendamazucu.org/evento/14485
DTSTART:20260515T173000Z
DTEND:20260515T183000Z
GEO:+43.53658;-5.667735
LOCATION:Xixón/Gijón\, \nLlar El Mazucu\, \nC/Cangues d'Onís\,6\, Xixón
SUMMARY:Charla-Coloquio:'La generación del porno a un click'
URL:https://axendamazucu.org/evento/14485
END:VEVENT
END:VCALENDAR
