BEGIN:VCALENDAR
VERSION:2.0
PRODID:-//demosphere.net//NONSGML kigkonsult.se iCalcreator 2.22.1//
METHOD:REQUEST
X-WR-TIMEZONE:Europe/Madrid
BEGIN:VEVENT
UID:https://axendamazucu.org/evento/14486
DTSTAMP:20260501T100000Z
DESCRIPTION:más información aquí: https://axendamazucu.org/evento/14486
DTSTART:20260501T100000Z
DTEND:20260501T110000Z
GEO:+43.54012;-5.668148
LOCATION:Xixón/Gijón\, \nCasa Sindical Xixón\,C/Sanz Crespo\,3
SUMMARY:Manifestación 1º Mayu combativo: CNT CGT INAST CSI
URL:https://axendamazucu.org/evento/14486
END:VEVENT
END:VCALENDAR
