BEGIN:VCALENDAR
VERSION:2.0
PRODID:-//demosphere.net//NONSGML kigkonsult.se iCalcreator 2.22.1//
METHOD:REQUEST
X-WR-TIMEZONE:Europe/Madrid
BEGIN:VEVENT
UID:https://axendamazucu.org/evento/14487
DTSTAMP:20260501T130000Z
DESCRIPTION:más información aquí: https://axendamazucu.org/evento/14487
DTSTART:20260501T130000Z
DTEND:20260501T140000Z
GEO:+43.588312;-5.768384
LOCATION:Carreño\, \nCasa del Pueblo CNT Candás\,Avda.Reina María Cristina 
 24\,Candás
SUMMARY:1° de Mayo CNT en Candás.Comida\, ruta de la memoria y ofrenda flor
 al
URL:https://axendamazucu.org/evento/14487
END:VEVENT
END:VCALENDAR
