BEGIN:VCALENDAR
VERSION:2.0
PRODID:-//demosphere.net//NONSGML kigkonsult.se iCalcreator 2.22.1//
METHOD:REQUEST
X-WR-TIMEZONE:Europe/Madrid
BEGIN:VEVENT
UID:https://axendamazucu.org/evento/14488
DTSTAMP:20260425T080000Z
DESCRIPTION:más información aquí: https://axendamazucu.org/evento/14488
DTSTART:20260425T080000Z
DTEND:20260425T090000Z
GEO:+43.3603;-5.84338
LOCATION:Oviedo\, \nEl Olivar: C/ Oscura\, nº 1/3 - Oviedo (Asturias)
SUMMARY:Jornada de iniciación a la informática libre
URL:https://axendamazucu.org/evento/14488
END:VEVENT
END:VCALENDAR
